BEGIN:VCALENDAR
VERSION:2.0
PRODID:-//Eras Forum - ECPv6.10.1.1//NONSGML v1.0//EN
CALSCALE:GREGORIAN
METHOD:PUBLISH
X-ORIGINAL-URL:https://erasforum.it
X-WR-CALDESC:Eventi per Eras Forum
REFRESH-INTERVAL;VALUE=DURATION:PT1H
X-Robots-Tag:noindex
X-PUBLISHED-TTL:PT1H
BEGIN:VTIMEZONE
TZID:Europe/Rome
BEGIN:DAYLIGHT
TZOFFSETFROM:+0100
TZOFFSETTO:+0200
TZNAME:CEST
DTSTART:20250330T010000
END:DAYLIGHT
BEGIN:STANDARD
TZOFFSETFROM:+0200
TZOFFSETTO:+0100
TZNAME:CET
DTSTART:20251026T010000
END:STANDARD
END:VTIMEZONE
BEGIN:VEVENT
DTSTART;TZID=Europe/Rome:20250531T160000
DTEND;TZID=Europe/Rome:20250531T180000
DTSTAMP:20260420T124156
CREATED:20250121T121135Z
LAST-MODIFIED:20250213T145829Z
UID:1461-1748707200-1748714400@erasforum.it
SUMMARY:Obbiettivo strategico per i sistemi sanitari regionali
DESCRIPTION:Il Protocollo ERAS ha dimostrato scientificamente di ridurre non solo i fattori di rischio ma anche i tempi di degenza in ospedale\, con conseguente abbattimento delle liste d’attesa e delle complicanze operatorie.La Regione Lombardia\, con DGR 3720 del 30.12.2024\, ha stabilito che le Aziende\, all’interno del ”Percorso del paziente chirurgico programmato”\, devono introdurre il protocollo ERAS. \nIl convegno ECM ha l’obiettivo di fornire ai partecipanti conoscenze approfondite sulle più recenti innovazioni relative al Protocollo E.R.A.S.\, promuovendo una visione sistemica e coordinata che favorisca l’adozione delle migliori pratiche nei contesti regionali. \nGli interventi dei relatori offriranno un’analisi delle evidenze scientifiche più aggiornate e delle esperienze pratiche legate alla realizzazione di percorsi E.R.A.S.\, evidenziandone i benefici clinici\, organizzativi ed economici. \n  \nScarica la locandina \n  \nL’evento si terrà presso:  \nAula Milani presso Policlinico di Milano | Padiglione Palazzo Uffici – piano terra \nIngresso da Via Francesco Sforza\, 28 | 20122 Milano \ndalle ore 16.00 alle ore 18.00 \n  \n 
URL:https://erasforum.it/evento/obbiettivo-strategico-per-i-sistemi-sanitari-regionali/
LOCATION:Policlinico di Milano\, Via Francesco Sforza\, 35\, Milano\, MI\, 20122\, Italy
CATEGORIES:Evento
ATTACH;FMTTYPE=image/png:https://erasforum.it/wp-content/uploads/2025/01/copertina-evento.png
ORGANIZER;CN="Eras Forum":MAILTO:info@erasforum.it
END:VEVENT
END:VCALENDAR